BEGIN:VCALENDAR
VERSION:2.0
PRODID:-//Autograf//Djoin//NO
METHOD:PUBLISH
BEGIN:VTIMEZONE
TZID:Europe/Oslo
BEGIN:DAYLIGHT
TZOFFSETFROM:+0100
RRULE:FREQ=YEARLY;BYMONTH=3;BYDAY=-1SU
DTSTART:19810329T020000
TZNAME:CEST
TZOFFSETTO:+0200
END:DAYLIGHT
BEGIN:STANDARD
TZOFFSETFROM:+0200
RRULE:FREQ=YEARLY;BYMONTH=10;BYDAY=-1SU
DTSTART:19961027T030000
TZNAME:CET
TZOFFSETTO:+0100
END:STANDARD
END:VTIMEZONE
BEGIN:VEVENT
UID:5cfeab171b7dc6c52aa166095e7bb8fe
DTSTAMP:20260424T184751Z
DTSTART;TZID=Europe/Oslo:20220510T163000Z
DTEND;TZID=Europe/Oslo:20220510T180000Z
URL:https://www.godesetspeidergruppe.no/aktivitet/3165
SUMMARY:Tropp Møte !  Kano tur :-) 
LOCATION:Sandnes\, Eikelivatnet
END:VEVENT
END:VCALENDAR